BEGIN:VCALENDAR
PRODID:-//Tocco AG//iCal4j 1.0//EN
VERSION:2.0
CALSCALE:GREGORIAN
X-WR-CALNAME:Generalversammlung 2026
X-WR-CALDESC:
BEGIN:VEVENT
DTSTAMP:20260422T171223Z
DTSTART:20260611T120000Z
DTEND:20260611T140000Z
SUMMARY:Generalversammlung 2026
UID:31769199-3538-47fe-865d-62d59a496218
X-ALT-DESC;FMTTYPE=text/html:
DESCRIPTION:
END:VEVENT
END:VCALENDAR
