BEGIN:VCALENDAR
PRODID:-//Tocco AG//iCal4j 1.0//EN
VERSION:2.0
CALSCALE:GREGORIAN
X-WR-CALNAME:Rénovation de l'enveloppe des bâtiments
X-WR-CALDESC:
BEGIN:VEVENT
DTSTAMP:20260421T085225Z
DTSTART:20251028T173000Z
DTEND:20251028T190000Z
SUMMARY:Rénovation de l'enveloppe des bâtiments
UID:741af746-d173-4275-8cce-01e0c1c1c1ac
X-ALT-DESC;FMTTYPE=text/html:
DESCRIPTION:
END:VEVENT
END:VCALENDAR
