BEGIN:VCALENDAR
PRODID:-//Tocco AG//iCal4j 1.0//EN
VERSION:2.0
CALSCALE:GREGORIAN
X-WR-CALNAME:FAB OCH - 48. GV & Besichtigung 3D-Betondruck - Gebäude Kobelt Haus AG Marbach :: Engineers' Day 2025
X-WR-CALDESC:Am Engineers’ Day 2025 werden wir das erste gedruckte Betongebäude in der Schweiz in Marbach besichtigen. Es wurde im Herbst 2024 fertiggestellt. Die reine Druckzeit betrug 55 Stunden. Planung bis Fertigstellung dauerten knapp zwei Jahre. Der Spatenstich war im November 2023 und die Fertigstellung im September 2024. Im 3D gedruckten Betongebäude\, welches als Showroom genutzt wird\, sowie im angrenzenden Bürogebäude werden uns Dominik Sieber Geschäftsführer der Kobelt AG und Luca Tresch Projektverantwortlicher bei Holcim mehr Detailinformationen zum Bauablauf geben. Beim Firmenrundgang erfahren wir mehr über die Tätigkeit der Firma Kobelt AG. Im Anschluss findet die 48. Generalversammlung 2025 statt.
BEGIN:VEVENT
DTSTAMP:20260423T082724Z
DTSTART:20250304T143000Z
DTEND:20250304T200000Z
SUMMARY:FAB OCH - 48. GV & Besichtigung 3D-Betondruck - Gebäude Kobelt Haus AG Marbach :: Engineers' Day 2025
LOCATION: Staatsstrasse 7\,\n 9437 Marbach
UID:860fa3ae-e9be-4fd3-859a-34fe93d7f3e5
X-ALT-DESC;FMTTYPE=text/html:<p>Am Engineers’ Day 2025 werden wir das erste gedruckte Betongebäude in der Schweiz in Marbach besichtigen. Es wurde im Herbst 2024 fertiggestellt. Die reine Druckzeit betrug 55 Stunden. Planung bis Fertigstellung dauerten knapp zwei Jahre. Der Spatenstich war im November 2023 und die Fertigstellung im September 2024. Im 3D gedruckten Betongebäude\, welches als Showroom genutzt wird\, sowie im angrenzenden Bürogebäude werden uns Dominik Sieber Geschäftsführer der Kobelt AG und Luca Tresch Projektverantwortlicher bei Holcim mehr Detailinformationen zum Bauablauf geben. Beim Firmenrundgang erfahren wir mehr über die Tätigkeit der Firma Kobelt AG. Im Anschluss findet die 48. Generalversammlung 2025 statt.</p>
DESCRIPTION:Am Engineers’ Day 2025 werden wir das erste gedruckte Betongebäude in der Schweiz in Marbach besichtigen. Es wurde im Herbst 2024 fertiggestellt. Die reine Druckzeit betrug 55 Stunden. Planung bis Fertigstellung dauerten knapp zwei Jahre. Der Spatenstich war im November 2023 und die Fertigstellung im September 2024. Im 3D gedruckten Betongebäude\, welches als Showroom genutzt wird\, sowie im angrenzenden Bürogebäude werden uns Dominik Sieber Geschäftsführer der Kobelt AG und Luca Tresch Projektverantwortlicher bei Holcim mehr Detailinformationen zum Bauablauf geben. Beim Firmenrundgang erfahren wir mehr über die Tätigkeit der Firma Kobelt AG. Im Anschluss findet die 48. Generalversammlung 2025 statt.
END:VEVENT
END:VCALENDAR
