BEGIN:VCALENDAR
PRODID:-//Tocco AG//iCal4j 1.0//EN
VERSION:2.0
CALSCALE:GREGORIAN
X-WR-CALNAME:FGST: 40. Generalversammlung
X-WR-CALDESC:15:00 Eintreffen der Teilnehmer 15:30 Begrüssung Michael Hanselmann FGST 15:35 Geführte Besichtigung des KKL Luzern Guides vom KKL Luzern 16:40 Fachvortrag Gebäudetechnik und Sicherheit am KKL Jürg Schär Leiter Gebäude + Sicherheit bei KKL Luzern 17:10 Kurze Pause 17:15 40. Generalversammlung Michael Hanselmann FGST 18:30 Apéro im Terrassensaal 19:30 Nachtessen im Restaurant Le Piaf 21:30 Ende
BEGIN:VEVENT
DTSTAMP:20260421T083828Z
DTSTART:20260312T140000Z
DTEND:20260312T203000Z
SUMMARY:FGST: 40. Generalversammlung
LOCATION:KKL Luzern\nEuropaplatz 1\nCH-6005 Luzern
UID:8b01597d-83ad-44dd-847b-cc90cb8a1a8a
X-ALT-DESC;FMTTYPE=text/html:<p>15:00 Eintreffen der Teilnehmer&nbsp\;</p>\n<p>15:30 Begrüssung&nbsp\;<br>\n  &nbsp\;Michael Hanselmann&nbsp\;FGST&nbsp\;</p>\n<p>15:35 Geführte Besichtigung des KKL Luzern&nbsp\;<br>\n  &nbsp\;Guides vom KKL Luzern&nbsp\;</p>\n<p>16:40 Fachvortrag Gebäudetechnik und Sicherheit am KKL&nbsp\;<br>\n  &nbsp\;Jürg Schär&nbsp\;<br>\n  &nbsp\;Leiter Gebäude + Sicherheit bei KKL Luzern&nbsp\;</p>\n<p>17:10 Kurze Pause&nbsp\;</p>\n<p>17:15 40. Generalversammlung&nbsp\;<br>\n  &nbsp\;Michael Hanselmann&nbsp\;FGST&nbsp\;</p>\n<p>18:30 Apéro im Terrassensaal&nbsp\;</p>\n<p>19:30 Nachtessen im Restaurant Le Piaf&nbsp\;</p>\n<p>21:30 Ende</p>
DESCRIPTION:15:00 Eintreffen der Teilnehmer 15:30 Begrüssung Michael Hanselmann FGST 15:35 Geführte Besichtigung des KKL Luzern Guides vom KKL Luzern 16:40 Fachvortrag Gebäudetechnik und Sicherheit am KKL Jürg Schär Leiter Gebäude + Sicherheit bei KKL Luzern 17:10 Kurze Pause 17:15 40. Generalversammlung Michael Hanselmann FGST 18:30 Apéro im Terrassensaal 19:30 Nachtessen im Restaurant Le Piaf 21:30 Ende
END:VEVENT
END:VCALENDAR
