BEGIN:VCALENDAR
PRODID:-//Tocco AG//iCal4j 1.0//EN
VERSION:2.0
CALSCALE:GREGORIAN
X-WR-CALNAME:AG SE-Vaud 2025
X-WR-CALDESC:Partie statutaire 1. Ouverture de la séance et élection des scrutateurs 2. Adoption du procès-verbal de l’assemblée générale 2024 3. Rapport du président 4. Présentation des comptes 2024\, rapport des vérificateurs 5. Présentation du budget 2025 6. Cotisations annuelles pour 2025 7. Réélection du Comité\, avec un nouveau membre 8. Rapport d’activité 9. Manifestations passées et prévues 10. Propositions individuelles 11. Divers Complément 12 Présentations de deux étudiantes HEIG qui viendront nous parler de leurs travaux Madame Marion de Kerchove\, diplômée en Ingénierie de média\, HEIG-VD a réalisé son travail de bachelor sur un thème de la visualisation des données de recherche médicale "Neuroscience de l'apprentissage : Décoder et visualiser les connexions cérébrales" https://tb.heig-vd.ch/8466 Madame Aurélie Grivel\, diplômée en Systèmes industriels\, HEIG-VD a réalisé son travail de bachelor sur un thème de la fabrication additive: "Evaluation et amélioration de la conception d'une buse fabriquée par SLA/DLP" https://tb.heig-vd.ch/8269 Lien sur le: PV de l'AG 2024\, Slides et Comptes
BEGIN:VEVENT
DTSTAMP:20260421T083034Z
DTSTART:20250318T173000Z
DTEND:20250318T193000Z
SUMMARY:AG SE-Vaud 2025
LOCATION:Lausanne gare / Tibits
UID:aecf3d27-3df6-456b-9057-0fbaa7a791e1
X-ALT-DESC;FMTTYPE=text/html:<p><u><em>Partie statutaire</em></u></p>\n<p>1. Ouverture de la séance et élection des scrutateurs<br>\n  2. Adoption du procès-verbal de l’assemblée générale 2024<br>\n  3. Rapport du président<br>\n  4. Présentation des comptes 2024\,<a href="https://www.se-vaud.ch/images/PDF/AG-Documents/2018-03-15-Rapport_des_vrificateurs_des_comptes_AG2018.pdf" rel="noopener noreferrer" target="_blank">&nbsp\;r</a>apport des vérificateurs<br>\n  5. Présentation du budget 2025<br>\n  6. Cotisations annuelles pour 2025<br>\n  7. Réélection du Comité\, avec un nouveau membre<br>\n  8. Rapport d’activité<br>\n  9. Manifestations passées&nbsp\; et prévues<br>\n  10. Propositions individuelles<br>\n  11. Divers</p>\n<p><u><em>Complément&nbsp\;</em></u></p>\n<p>12&nbsp\;&nbsp\;<strong>Présentations de deux étudiantes HEIG qui viendront nous parler de leurs travaux</strong></p>\n<ul>\n <li>Madame&nbsp\;<b>Marion de Kerchove</b>\, diplômée en Ingénierie de média\, HEIG-VD&nbsp\;a réalisé son travail de bachelor sur un thème de la<br><b><u>visualisation des données de recherche médicale</u>&nbsp\;</b><i>"Neuroscience de l'apprentissage : Décoder et visualiser les connexions cérébrales"</i><br><a href="https://tb.heig-vd.ch/8466">https://tb.heig-vd.ch/8466</a></li>\n <li>\n  <p>Madame&nbsp\;<b>Aurélie Grivel</b>\, diplômée en Systèmes industriels\, HEIG-VD&nbsp\;a réalisé son travail de bachelor sur un thème de la<br><b><u>fabrication additive</u>:&nbsp\;&nbsp\;</b><i>"Evaluation et amélioration de la conception d'une buse fabriquée par SLA/DLP"</i><br><a href="https://tb.heig-vd.ch/8269">https://tb.heig-vd.ch/8269</a>&nbsp\;</p></li>\n</ul>\n<p><a href="https://www.se-vaud.ch/images/PDF/AG-Documents/AG-2024/Assemble-Gnrale-2024.pdf" rel="noopener noreferrer" target="_blank">Lien sur le: PV de l'AG 2024</a>\, Slides et Comptes</p>
DESCRIPTION:Partie statutaire 1. Ouverture de la séance et élection des scrutateurs 2. Adoption du procès-verbal de l’assemblée générale 2024 3. Rapport du président 4. Présentation des comptes 2024\, rapport des vérificateurs 5. Présentation du budget 2025 6. Cotisations annuelles pour 2025 7. Réélection du Comité\, avec un nouveau membre 8. Rapport d’activité 9. Manifestations passées et prévues 10. Propositions individuelles 11. Divers Complément 12 Présentations de deux étudiantes HEIG qui viendront nous parler de leurs travaux Madame Marion de Kerchove\, diplômée en Ingénierie de média\, HEIG-VD a réalisé son travail de bachelor sur un thème de la visualisation des données de recherche médicale "Neuroscience de l'apprentissage : Décoder et visualiser les connexions cérébrales" https://tb.heig-vd.ch/8466 Madame Aurélie Grivel\, diplômée en Systèmes industriels\, HEIG-VD a réalisé son travail de bachelor sur un thème de la fabrication additive: "Evaluation et amélioration de la conception d'une buse fabriquée par SLA/DLP" https://tb.heig-vd.ch/8269 Lien sur le: PV de l'AG 2024\, Slides et Comptes
END:VEVENT
END:VCALENDAR
