BEGIN:VCALENDAR
PRODID:-//Tocco AG//iCal4j 1.0//EN
VERSION:2.0
CALSCALE:GREGORIAN
X-WR-CALNAME:Tagesseminar: Beruflich Einfluss gewinnen (SE-ZH)
X-WR-CALDESC:Dieses Training ist etwas für Sie: Wenn Sie im Beruf etwas bewirken möchten Wenn Sie statt gegen Mauern zu rennen\, die Türen öffnen möchten Wenn Sie Arbeitskollegen\, Kunden\, Mitarbeitende und Vorgesetzte für sich und ihre Anliegen gewinnen möchten. Netzwerken und Austausch: Sie tauschen sich mit Gleichgesinnten aus und knüpfen wertvolle Kontakte\, die auch nach dem Seminar Bestand haben. Methodik 1 Tag Kompakttraining zum Erlernen der Grundlagen anhand kurzer Theorieeinheiten\, interaktiven Einzel- und Gruppenübungen sowie Beispielen aus der Praxis(1/3 Theorie\, 2/3 Praxis). 1 Monat Umsetzungsphase mit Übungen zum Umsetzen des Gelernten in der Praxis. Unterstützt werden Sie von einem Lernpartner:in. Optionales Abschlussmodul mit Apéro(2h) zum Austausch der Erfahrungen\, Klärung offener Fragen und Abrunden des Rüstzeugs. (Termin wird mit den Teilnehmenden gemeinsam vereinbart) Sie lernen • Erkennen der ungeschriebenen Gesetze und Zusammenhänge ihrer Organisation. • Steigerung der Wirksamkeit ihrer Beiträge mit ihrem persönlichen «Einfluss-Kompass». • Verstehen von anderen Perspektiven und Herstellen gewinnbringender Beziehungen und Netzwerke. Referentin: Isabell Dittmar: isabell@dittmarconsult.com https://www.dittmarconsult.com/ Bei Fragen steht euch Isabell Dittmar sehr gerne zur Verfügung. Kosten: Mitglieder von Swissengineering: CHF 350.- Normalpreis: CHF 750.- (Bonus: Teilnehmenden Neu-Mitgliedern kann 1 Jahr Probemitgliedschaft offeriert werden\, Email an isabell@dittmarconsult.com) Für die Zahlung des Anlasses verwenden Sie bitte diese QR-Rechnung.
BEGIN:VEVENT
DTSTAMP:20260425T131314Z
DTSTART:20260613T073000Z
DTEND:20260613T160000Z
SUMMARY:Tagesseminar: Beruflich Einfluss gewinnen (SE-ZH)
UID:cc439ea4-e8ab-4efc-a31d-b1119d4fea56
X-ALT-DESC;FMTTYPE=text/html:<h1><span style="font-size:17px\;"><strong>Dieses Training ist etwas für Sie:</strong></span></h1>\n<br>\n<ul>\n <li>\n  <p>Wenn Sie <strong>im Beruf etwas bewirken</strong> möchten</p></li>\n <li>\n  <p><span style="font-size:19px\;"><span style="font-family:&quot\;Times New Roman&quot\;\,serif"><span style="font-family:&quot\;Arial&quot\;\,sans-serif">Wenn Sie statt gegen Mauern zu rennen\, die <strong>Türen öffnen </strong>möchten</span></span></span></p></li>\n <li>\n  <p>Wenn Sie <strong>Arbeitskollegen\, Kunden\, Mitarbeitende und Vorgesetzte</strong> für sich und ihre Anliegen gewinnen möchten.</p></li>\n <li>\n  <p><strong>Netzwerken und Austausch</strong>: Sie tauschen sich mit Gleichgesinnten aus und knüpfen wertvolle Kontakte\, die auch nach dem Seminar Bestand haben.</p>\n  <br>\n  <h1><span style="font-size:28px\;"><strong>Methodik</strong></span></h1>\n  <br></li>\n <li><span style="font-size:18px\;"><strong>1 Tag Kompakttraining</strong> zum Erlernen der Grundlagen&nbsp\;anhand kurzer&nbsp\;Theorieeinheiten\,&nbsp\;interaktiven&nbsp\;Einzel- und Gruppenübungen sowie&nbsp\;Beispielen aus der Praxis<span style="font-family:&quot\;Arial&quot\;\,sans-serif">(1/3 Theorie\, 2/3 Praxis).</span></span></li>\n</ul>\n<br>\n<ul>\n <li><span style="font-size:18px\;"><strong>1 Monat Umsetzungsphase</strong> mit Übungen zum Umsetzen des Gelernten in der Praxis. Unterstützt werden Sie von einem Lernpartner:in.</span></li>\n</ul>\n<br>\n<ul>\n <li><span style="font-size:18px\;"><strong>Optionales Abschlussmodul mit Apéro</strong>(2h)&nbsp\;zum Austausch der&nbsp\;Erfahrungen\, Klärung offener Fragen und Abrunden des Rüstzeugs. (Termin wird mit den Teilnehmenden gemeinsam vereinbart)</span></li>\n</ul>\n<br>\n<p><span style="font-size:28px\;"><strong>Sie lernen</strong></span></p>\n<br>\n<p>•&nbsp\;Erkennen der ungeschriebenen Gesetze und Zusammenhänge ihrer Organisation.</p>\n<p>•&nbsp\;&nbsp\;&nbsp\; Steigerung der Wirksamkeit ihrer Beiträge mit ihrem persönlichen «Einfluss-Kompass».</p>\n<p>•&nbsp\;&nbsp\;&nbsp\; Verstehen von anderen Perspektiven und Herstellen gewinnbringender Beziehungen und Netzwerke.</p>\n<br>\n<p><span style="font-size:28px\;"><strong>Referentin</strong>:</span></p>\n<br>\n<ul>\n <li>\n  <h1><span style="font-size:20px\;"><a href="mailto:Isabell Dittmar: isabell@dittmarconsult.com">Isabell Dittmar: isabell@dittmarconsult.com</a><br><a href="https://www.dittmarconsult.com/">https://www.dittmarconsult.com/</a></span></h1>\n  <p>Bei Fragen steht euch <a href="mailto:isabell@dittmarconsult.com">Isabell Dittmar</a> sehr gerne zur Verfügung.</p></li>\n</ul>\n<h2>&nbsp\;</h2>\n<h2><span style="font-size:28px\;"><strong>Kosten:&nbsp\;</strong></span></h2>\n<br>\n<p>Mitglieder von Swissengineering: CHF 350.-</p>\n<p>Normalpreis: CHF 750.-</p>\n<p>(Bonus: Teilnehmenden Neu-Mitgliedern kann 1 Jahr Probemitgliedschaft offeriert werden\, Email an isabell@dittmarconsult.com)</p>\n<p>Für die Zahlung des Anlasses verwenden Sie bitte diese <a href="https://www.swissengineering.ch/dokumente-pdfs/FG-Sektionen-Dokumente/Sektion-Z%C3%BCrich/Leadership%20QR-Rechnung.pdf">QR-Rechnung.</a></p>\n<br>
DESCRIPTION:Dieses Training ist etwas für Sie: Wenn Sie im Beruf etwas bewirken möchten Wenn Sie statt gegen Mauern zu rennen\, die Türen öffnen möchten Wenn Sie Arbeitskollegen\, Kunden\, Mitarbeitende und Vorgesetzte für sich und ihre Anliegen gewinnen möchten. Netzwerken und Austausch: Sie tauschen sich mit Gleichgesinnten aus und knüpfen wertvolle Kontakte\, die auch nach dem Seminar Bestand haben. Methodik 1 Tag Kompakttraining zum Erlernen der Grundlagen anhand kurzer Theorieeinheiten\, interaktiven Einzel- und Gruppenübungen sowie Beispielen aus der Praxis(1/3 Theorie\, 2/3 Praxis). 1 Monat Umsetzungsphase mit Übungen zum Umsetzen des Gelernten in der Praxis. Unterstützt werden Sie von einem Lernpartner:in. Optionales Abschlussmodul mit Apéro(2h) zum Austausch der Erfahrungen\, Klärung offener Fragen und Abrunden des Rüstzeugs. (Termin wird mit den Teilnehmenden gemeinsam vereinbart) Sie lernen • Erkennen der ungeschriebenen Gesetze und Zusammenhänge ihrer Organisation. • Steigerung der Wirksamkeit ihrer Beiträge mit ihrem persönlichen «Einfluss-Kompass». • Verstehen von anderen Perspektiven und Herstellen gewinnbringender Beziehungen und Netzwerke. Referentin: Isabell Dittmar: isabell@dittmarconsult.com https://www.dittmarconsult.com/ Bei Fragen steht euch Isabell Dittmar sehr gerne zur Verfügung. Kosten: Mitglieder von Swissengineering: CHF 350.- Normalpreis: CHF 750.- (Bonus: Teilnehmenden Neu-Mitgliedern kann 1 Jahr Probemitgliedschaft offeriert werden\, Email an isabell@dittmarconsult.com) Für die Zahlung des Anlasses verwenden Sie bitte diese QR-Rechnung.
END:VEVENT
END:VCALENDAR
